BEGIN:VCALENDAR
VERSION:2.0
PRODID:-//GR Lions Club - ECPv6.15.20//NONSGML v1.0//EN
CALSCALE:GREGORIAN
METHOD:PUBLISH
X-WR-CALNAME:GR Lions Club
X-ORIGINAL-URL:https://www.grandrapidslionsclub.org
X-WR-CALDESC:Events for GR Lions Club
REFRESH-INTERVAL;VALUE=DURATION:PT1H
X-Robots-Tag:noindex
X-PUBLISHED-TTL:PT1H
BEGIN:VTIMEZONE
TZID:America/Detroit
BEGIN:DAYLIGHT
TZOFFSETFROM:-0500
TZOFFSETTO:-0400
TZNAME:EDT
DTSTART:20210314T070000
END:DAYLIGHT
BEGIN:STANDARD
TZOFFSETFROM:-0400
TZOFFSETTO:-0500
TZNAME:EST
DTSTART:20211107T060000
END:STANDARD
BEGIN:DAYLIGHT
TZOFFSETFROM:-0500
TZOFFSETTO:-0400
TZNAME:EDT
DTSTART:20220313T070000
END:DAYLIGHT
BEGIN:STANDARD
TZOFFSETFROM:-0400
TZOFFSETTO:-0500
TZNAME:EST
DTSTART:20221106T060000
END:STANDARD
BEGIN:DAYLIGHT
TZOFFSETFROM:-0500
TZOFFSETTO:-0400
TZNAME:EDT
DTSTART:20230312T070000
END:DAYLIGHT
BEGIN:STANDARD
TZOFFSETFROM:-0400
TZOFFSETTO:-0500
TZNAME:EST
DTSTART:20231105T060000
END:STANDARD
END:VTIMEZONE
BEGIN:VEVENT
DTSTART;TZID=America/Detroit:20220204T000000
DTEND;TZID=America/Detroit:20220204T000000
DTSTAMP:20260425T063806
CREATED:20220216T090037Z
LAST-MODIFIED:20220204T223118Z
UID:4269-1643932800-1643932800@www.grandrapidslionsclub.org
SUMMARY:February Service Project-Eyeglass Center
DESCRIPTION:
URL:https://www.grandrapidslionsclub.org/event/february-service-project-eyeglass-center/
CATEGORIES:Service Projects
END:VEVENT
BEGIN:VEVENT
DTSTART;TZID=America/Detroit:20220216T140000
DTEND;TZID=America/Detroit:20220216T200000
DTSTAMP:20260425T063806
CREATED:20220205T090827Z
LAST-MODIFIED:20220206T221639Z
UID:4273-1645020000-1645041600@www.grandrapidslionsclub.org
SUMMARY:February Service Project-Wed Feb 16 Eyeglass Recycling
DESCRIPTION:Eyeglass Recycling Center \nWednesday\, February 16\, 2022 \nPick a Shift: (10 per shift) \n2-4pm or 6-8pm \nLocation: \nDave Burgess Studio \n616 Photography – in the back \nLions EYeglass Warehouse \nCheck in with Gail Junod at the beginning of your shift \nRSVP by 2/15 to secure your spot \nSherah Eavey 616-322-4668 \nsherah@eavey.com \nWEAR WARM CLOTHES\, the warehouse is chilly! \n 
URL:https://www.grandrapidslionsclub.org/event/february-service-project-wed-feb-16-eyeglass-recycling/
CATEGORIES:Service Projects
END:VEVENT
END:VCALENDAR