BEGIN:VCALENDAR
VERSION:2.0
PRODID:-//GR Lions Club - ECPv6.15.20//NONSGML v1.0//EN
CALSCALE:GREGORIAN
METHOD:PUBLISH
X-WR-CALNAME:GR Lions Club
X-ORIGINAL-URL:https://www.grandrapidslionsclub.org
X-WR-CALDESC:Events for GR Lions Club
REFRESH-INTERVAL;VALUE=DURATION:PT1H
X-Robots-Tag:noindex
X-PUBLISHED-TTL:PT1H
BEGIN:VTIMEZONE
TZID:America/Detroit
BEGIN:DAYLIGHT
TZOFFSETFROM:-0500
TZOFFSETTO:-0400
TZNAME:EDT
DTSTART:20210314T070000
END:DAYLIGHT
BEGIN:STANDARD
TZOFFSETFROM:-0400
TZOFFSETTO:-0500
TZNAME:EST
DTSTART:20211107T060000
END:STANDARD
BEGIN:DAYLIGHT
TZOFFSETFROM:-0500
TZOFFSETTO:-0400
TZNAME:EDT
DTSTART:20220313T070000
END:DAYLIGHT
BEGIN:STANDARD
TZOFFSETFROM:-0400
TZOFFSETTO:-0500
TZNAME:EST
DTSTART:20221106T060000
END:STANDARD
BEGIN:DAYLIGHT
TZOFFSETFROM:-0500
TZOFFSETTO:-0400
TZNAME:EDT
DTSTART:20230312T070000
END:DAYLIGHT
BEGIN:STANDARD
TZOFFSETFROM:-0400
TZOFFSETTO:-0500
TZNAME:EST
DTSTART:20231105T060000
END:STANDARD
END:VTIMEZONE
BEGIN:VEVENT
DTSTART;TZID=America/Detroit:20220117T100000
DTEND;TZID=America/Detroit:20220117T200000
DTSTAMP:20260425T075736
CREATED:20220112T230927Z
LAST-MODIFIED:20220112T230927Z
UID:4227-1642413600-1642449600@www.grandrapidslionsclub.org
SUMMARY:Service Project
DESCRIPTION:SERVICE PROJECT \n\n\n\n\nMONDAY\, JANUARY 17\,\nPICK A SHIFT􏰀 10-12 PM OR 6-􏰁PM LOCATION􏰀 \nHelp solve the global water crisis!  We’re building Bucket Filters! \nFamily Friendly! Ages 4-104 are welcome  This low cost filter is easy to assemble and lasts for 10 years\, changes lives by improving health\, education and income with every glass \nCONNECT BUILDING \n2146 DIVISION AVE S GRAND RAPIDS\, MI 4􏰂507 \n\n\n\n\nSign up􏰅 for􏰆􏰇 t􏰈he MORNING 􏰉shift􏰈 at􏰈 https􏰈􏰈􏰅􏰉://build􏰄.villi􏰊􏰊agewaterfilters.or􏰆􏰇g/ev􏰋entse􏰃􏰈􏰉/272  \nSign up􏰅 for􏰆􏰇 t􏰈he EVENING 􏰉shift􏰈 at􏰈 https􏰈􏰈􏰅􏰉://build􏰄.villi􏰊􏰊agewaterfilters.or􏰆􏰇g/ev􏰋entse􏰃􏰈􏰉/273 \nW􏰍EAR COMFORTABLE\, CLOSED-TOE SHOES \nContact: Sherah Eavey\, 616-322-4668 or sherah@eavey.com
URL:https://www.grandrapidslionsclub.org/event/service-project/
CATEGORIES:Service Projects
END:VEVENT
END:VCALENDAR