BEGIN:VCALENDAR
VERSION:2.0
PRODID:-//GR Lions Club - ECPv6.15.20//NONSGML v1.0//EN
CALSCALE:GREGORIAN
METHOD:PUBLISH
X-WR-CALNAME:GR Lions Club
X-ORIGINAL-URL:https://www.grandrapidslionsclub.org
X-WR-CALDESC:Events for GR Lions Club
REFRESH-INTERVAL;VALUE=DURATION:PT1H
X-Robots-Tag:noindex
X-PUBLISHED-TTL:PT1H
BEGIN:VTIMEZONE
TZID:America/Detroit
BEGIN:DAYLIGHT
TZOFFSETFROM:-0500
TZOFFSETTO:-0400
TZNAME:EDT
DTSTART:20200308T070000
END:DAYLIGHT
BEGIN:STANDARD
TZOFFSETFROM:-0400
TZOFFSETTO:-0500
TZNAME:EST
DTSTART:20201101T060000
END:STANDARD
BEGIN:DAYLIGHT
TZOFFSETFROM:-0500
TZOFFSETTO:-0400
TZNAME:EDT
DTSTART:20210314T070000
END:DAYLIGHT
BEGIN:STANDARD
TZOFFSETFROM:-0400
TZOFFSETTO:-0500
TZNAME:EST
DTSTART:20211107T060000
END:STANDARD
BEGIN:DAYLIGHT
TZOFFSETFROM:-0500
TZOFFSETTO:-0400
TZNAME:EDT
DTSTART:20220313T070000
END:DAYLIGHT
BEGIN:STANDARD
TZOFFSETFROM:-0400
TZOFFSETTO:-0500
TZNAME:EST
DTSTART:20221106T060000
END:STANDARD
END:VTIMEZONE
BEGIN:VEVENT
DTSTART;TZID=America/Detroit:20211108T100000
DTEND;TZID=America/Detroit:20211108T120000
DTSTAMP:20260425T102803
CREATED:20211109T161449Z
LAST-MODIFIED:20211109T161612Z
UID:4087-1636365600-1636372800@www.grandrapidslionsclub.org
SUMMARY:November Service Project @ GR Lions Eyeglass Recycling Center
DESCRIPTION:The Service Project will be held in two shifts on Monday\, Nov 8 at the GR Lions Eyeglass Recycling Center.  We will be washing eyeglasses from 10-12 pm & 6-8pm. \nlimited room\, please rsvp to Lion Sherah Eavey
URL:https://www.grandrapidslionsclub.org/event/november-service-project-gr-eyeglass-recycling-center/
CATEGORIES:Service Projects
END:VEVENT
BEGIN:VEVENT
DTSTART;TZID=America/Detroit:20211117T183000
DTEND;TZID=America/Detroit:20211117T200000
DTSTAMP:20260425T102803
CREATED:20211110T032056Z
LAST-MODIFIED:20211110T032056Z
UID:4097-1637173800-1637179200@www.grandrapidslionsclub.org
SUMMARY:District Service Project on Nov 17th at 6:30 pm
DESCRIPTION:If you would like to participate in a District Wide Service Project to make Child Snack Bags to be distributed to school children in Allegan County.  You are welcome to participate.  It will be hosted by the Allegan Lions Club and held at the Allegan Public Schools Admin Building\, 550  5th Street Allegan MI \nRSVP by Nov 14 to VDG Diane Wehby at (616) 901-8026 or dianeWMSN@ameritech.net. \n11C1 District Service Project
URL:https://www.grandrapidslionsclub.org/event/district-service-project-on-nov-17th-at-630-pm/
CATEGORIES:District 11-C1/State Event,Service Projects
END:VEVENT
END:VCALENDAR