BEGIN:VCALENDAR
VERSION:2.0
PRODID:-//GR Lions Club - ECPv6.15.20//NONSGML v1.0//EN
CALSCALE:GREGORIAN
METHOD:PUBLISH
X-ORIGINAL-URL:https://www.grandrapidslionsclub.org
X-WR-CALDESC:Events for GR Lions Club
REFRESH-INTERVAL;VALUE=DURATION:PT1H
X-Robots-Tag:noindex
X-PUBLISHED-TTL:PT1H
BEGIN:VTIMEZONE
TZID:America/Detroit
BEGIN:DAYLIGHT
TZOFFSETFROM:-0500
TZOFFSETTO:-0400
TZNAME:EDT
DTSTART:20230312T070000
END:DAYLIGHT
BEGIN:STANDARD
TZOFFSETFROM:-0400
TZOFFSETTO:-0500
TZNAME:EST
DTSTART:20231105T060000
END:STANDARD
BEGIN:DAYLIGHT
TZOFFSETFROM:-0500
TZOFFSETTO:-0400
TZNAME:EDT
DTSTART:20240310T070000
END:DAYLIGHT
BEGIN:STANDARD
TZOFFSETFROM:-0400
TZOFFSETTO:-0500
TZNAME:EST
DTSTART:20241103T060000
END:STANDARD
BEGIN:DAYLIGHT
TZOFFSETFROM:-0500
TZOFFSETTO:-0400
TZNAME:EDT
DTSTART:20250309T070000
END:DAYLIGHT
BEGIN:STANDARD
TZOFFSETFROM:-0400
TZOFFSETTO:-0500
TZNAME:EST
DTSTART:20251102T060000
END:STANDARD
BEGIN:DAYLIGHT
TZOFFSETFROM:-0500
TZOFFSETTO:-0400
TZNAME:EDT
DTSTART:20260308T070000
END:DAYLIGHT
BEGIN:STANDARD
TZOFFSETFROM:-0400
TZOFFSETTO:-0500
TZNAME:EST
DTSTART:20261101T060000
END:STANDARD
END:VTIMEZONE
BEGIN:VEVENT
DTSTART;TZID=America/Detroit:20240130T180000
DTEND;TZID=America/Detroit:20240130T210000
DTSTAMP:20260425T131231
CREATED:20230818T150937Z
LAST-MODIFIED:20230818T151248Z
UID:5324-1706637600-1706648400@www.grandrapidslionsclub.org
SUMMARY:18th Annual Blind Dinner Date
DESCRIPTION:The Grand Rapids Lions Club is excited to present the 18th Annual Blind Dinner Date! \nWe are extending an invitation for you to join us for an impactful event at Frederik Meijer Gardens & Sculpture Park(1000 E Beltline Ave NE\, Grand Rapids\, MI 49525) on Tuesday\, January 30\, 2024 from 6:00pm to 9:00pm for an evening of celebration in a gorgeous venue filled with great appetizers\, drinks and music. We are privileged to have Katie Mawby\, a member of the USA Adaptive Water Ski and Wake Sports Team\, as our featured guest. \nThe evening will also highlight the commendable efforts of local professionals who are committed to improving thequality of life for individuals with vision loss. 80% of the information we take in each day is processed through oureyes. Too often\, and without thought\, the ability to see is taken for granted. Grand Rapids Lions is committed topartnering with organizations working to help individuals living with vision loss. All funds raised through the BlindDinner Date provide: \n\nEyecare to all ages through the Grand Rapids Lions Club Vision Clinic at Cherry Health\, including children withspecial needs.\nRehabilitation services for individuals in West Michigan with visual impairment or blindness throughthe Association for the Blind & Visually Impaired (ABVI).\n\nWe need your help supporting our mission!–or please join us for only $75 per ticket. \nFor more information on cost of sponsorship or individual tickets please contact: \nLion Jim Schuyler\, Blind Dinner Date Chairperson \njimcschuyler@gmail.com \n  \n 
URL:https://www.grandrapidslionsclub.org/event/18th-annual-blind-dinner-date/
CATEGORIES:Club Event,Fundraising
END:VEVENT
BEGIN:VEVENT
DTSTART;TZID=America/Detroit:20240209T163000
DTEND;TZID=America/Detroit:20240209T190000
DTSTAMP:20260425T131231
CREATED:20240126T165651Z
LAST-MODIFIED:20240126T170939Z
UID:5772-1707496200-1707505200@www.grandrapidslionsclub.org
SUMMARY:Marne Lions Club Fish Fry During Lent
DESCRIPTION:Friday night Fish Frys – every Friday night from 4:30pm to 7:00pm\, starting February 9 through March 29th at the Interurban Depot Cafe\, Marne MI – take out only! \nContact PDG Julie May: jmay4379@gmail.com with any questions
URL:https://www.grandrapidslionsclub.org/event/marne-lions-club-fish-fry-during-lent/
CATEGORIES:Fundraising
END:VEVENT
BEGIN:VEVENT
DTSTART;TZID=America/Detroit:20240223T163000
DTEND;TZID=America/Detroit:20240223T190000
DTSTAMP:20260425T131231
CREATED:20240126T170107Z
LAST-MODIFIED:20240126T171325Z
UID:5776-1708705800-1708714800@www.grandrapidslionsclub.org
SUMMARY:Marne Lions Club Fish Fry During Lent 4:30-7pm
DESCRIPTION:Friday night Fish Frys – every Friday night from 4:30pm to 7:00pm\, starting February 9 through March 29th at the Interurban Depot Cafe\, Marne MI – take out only! \nContact PDG Julie May: jmay4379@gmail.com with any questions
URL:https://www.grandrapidslionsclub.org/event/marne-lions-club-fish-fry-during-lent-3/
CATEGORIES:Fundraising
END:VEVENT
BEGIN:VEVENT
DTSTART;TZID=America/Detroit:20240301T163000
DTEND;TZID=America/Detroit:20240301T190000
DTSTAMP:20260425T131231
CREATED:20240126T170157Z
LAST-MODIFIED:20240126T171132Z
UID:5778-1709310600-1709319600@www.grandrapidslionsclub.org
SUMMARY:Marne Fish Fry During Lent
DESCRIPTION:Friday night Fish Frys – every Friday night from 4:30pm to 7:00pm\, starting February 9 through March 29th at the Interurban Depot Cafe\, Marne MI – take out only! \nContact PDG Julie May: jmay4379@gmail.com with any questions
URL:https://www.grandrapidslionsclub.org/event/marne-fish-fry-during-lent/
CATEGORIES:Fundraising
END:VEVENT
BEGIN:VEVENT
DTSTART;TZID=America/Detroit:20240315T163000
DTEND;TZID=America/Detroit:20240315T190000
DTSTAMP:20260425T131231
CREATED:20240126T170416Z
LAST-MODIFIED:20240126T171419Z
UID:5782-1710520200-1710529200@www.grandrapidslionsclub.org
SUMMARY:Marne Lions Club Fish Fry During Lent 4:30-7pm
DESCRIPTION:Friday night Fish Frys – every Friday night from 4:30pm to 7:00pm\, starting February 9 through March 29th at the Interurban Depot Cafe\, Marne MI – take out only! \nContact PDG Julie May: jmay4379@gmail.com with any questions
URL:https://www.grandrapidslionsclub.org/event/marne-fish-fry-during-lent-3/
CATEGORIES:Fundraising
END:VEVENT
BEGIN:VEVENT
DTSTART;TZID=America/Detroit:20240322T163000
DTEND;TZID=America/Detroit:20240322T190000
DTSTAMP:20260425T131231
CREATED:20240126T170500Z
LAST-MODIFIED:20240126T171355Z
UID:5784-1711125000-1711134000@www.grandrapidslionsclub.org
SUMMARY:Marne Lions Club Fish Fry During Lent 4:30-7pm
DESCRIPTION:Friday night Fish Frys – every Friday night from 4:30pm to 7:00pm\, starting February 9 through March 29th at the Interurban Depot Cafe\, Marne MI – take out only! \nContact PDG Julie May: jmay4379@gmail.com with any questions
URL:https://www.grandrapidslionsclub.org/event/marne-lions-club-fish-fry-during-lent-4/
CATEGORIES:Fundraising
END:VEVENT
BEGIN:VEVENT
DTSTART;TZID=America/Detroit:20240617T080000
DTEND;TZID=America/Detroit:20240617T130000
DTSTAMP:20260425T131231
CREATED:20240328T235208Z
LAST-MODIFIED:20240328T235208Z
UID:5921-1718611200-1718629200@www.grandrapidslionsclub.org
SUMMARY:Drive for Vision 2.0
DESCRIPTION:The Grand Rapids Lions Club Drive for Vison 2.0 will be held again at Quail Ridge Golf Course. \nFunds raised will be going to ABVI\, GR Lions Vision Clinic & the GR Lions Foundation \nDetails to follow: or contact Lion Jamie Junod: jrjunod@gmail.com
URL:https://www.grandrapidslionsclub.org/event/drive-for-vision-2-0/
CATEGORIES:Fundraising
END:VEVENT
BEGIN:VEVENT
DTSTART;TZID=America/Detroit:20241009T170000
DTEND;TZID=America/Detroit:20241009T190000
DTSTAMP:20260425T131231
CREATED:20241008T200354Z
LAST-MODIFIED:20241008T200354Z
UID:6382-1728493200-1728500400@www.grandrapidslionsclub.org
SUMMARY:Fruitport Fish Fry
DESCRIPTION:Fruitport.does a great job frying up fish.  Be ready for a fun night. \nVFW Post 3734\, 5201 Airline Hwy.  Thank you Fruitport Lions\nContact Secretary Patricia Stressman   pstressman14@comcast.net\n 
URL:https://www.grandrapidslionsclub.org/event/fruitport-fish-fry-2/
CATEGORIES:Fundraising,Social Events
END:VEVENT
BEGIN:VEVENT
DTSTART;TZID=America/Detroit:20241009T173000
DTEND;TZID=America/Detroit:20241009T200000
DTSTAMP:20260425T131231
CREATED:20241008T200146Z
LAST-MODIFIED:20241008T200146Z
UID:6380-1728495000-1728504000@www.grandrapidslionsclub.org
SUMMARY:Ukrainian Dinner
DESCRIPTION:This event is to help support the Ukrainian Nurses.  A suggested donation for $20 will give you an experience of Ukrainian food\, songs and music.  Thank you Lion Lana O’Lonergan.   See Email or details
URL:https://www.grandrapidslionsclub.org/event/ukrainian-dinner/
CATEGORIES:Fundraising
END:VEVENT
BEGIN:VEVENT
DTSTART;TZID=America/Detroit:20241010T180000
DTEND;TZID=America/Detroit:20241010T200000
DTSTAMP:20260425T131231
CREATED:20240828T011232Z
LAST-MODIFIED:20240828T011449Z
UID:6261-1728583200-1728590400@www.grandrapidslionsclub.org
SUMMARY:Crafting Vision - Fundraiser
DESCRIPTION:Crafting Vision is a fundraiser to raise money for the Association for the Blind & Visually Impaired. \nHeld at the Warner\, Norcross and Judd Bld on the 15th floor \nTeresa Weakly will be the Master of Ceremonies \nFor more information contact Tim Tuthill\, \ntim.tuthill@maryfreebed.com
URL:https://www.grandrapidslionsclub.org/event/crafting-vision-fundraiser/
CATEGORIES:Fundraising
END:VEVENT
BEGIN:VEVENT
DTSTART;TZID=America/Detroit:20241017T183000
DTEND;TZID=America/Detroit:20241017T200000
DTSTAMP:20260425T131231
CREATED:20241008T200034Z
LAST-MODIFIED:20241008T200034Z
UID:6378-1729189800-1729195200@www.grandrapidslionsclub.org
SUMMARY:Project Night
DESCRIPTION: Project Night – Thursday\, Oct 17th.  At this event you will learn about at least 8 projects of your choice.  It is a dinner\, followed by “speed learning” from the districts.  There will be numerous local/district/MD11 projects there and YOU GET TO CHOSE which projects to visit and listen to for 6 minutes.  Yes\, 6 minutes and then move on to your next project you want to learn more about.  Come out to the Rockford Sportsman Club\, get dinner ($20) and learn where your club’s money is going to and why your club is supporting these projects. See Emal for details.
URL:https://www.grandrapidslionsclub.org/event/project-night/
CATEGORIES:Fundraising
END:VEVENT
BEGIN:VEVENT
DTSTART;TZID=America/Detroit:20241023T180000
DTEND;TZID=America/Detroit:20241023T200000
DTSTAMP:20260425T131231
CREATED:20241008T195048Z
LAST-MODIFIED:20241008T195048Z
UID:6372-1729706400-1729713600@www.grandrapidslionsclub.org
SUMMARY:Cherry Health Celebration\, Frederik Meijer Gardens & Sculpture Park
DESCRIPTION:CHERRY HEALTH CELEBRATION 2024 \nCelebrate with Cherry Health! \nJoin us at Cherry Health Celebration to celebrate the impact of innovative and accessible healthcare. This years fundraising event will feature the inspiring ways our Clubhouse programs are supporting those on their journey from mental illness to mental wellness—by helping them develop both a sense of community and the ability to live independently. \nVisit bit.ly/celeb24tix to get your tickets today for Cherry Health Celebration on Wednesday\, October 23\, from 6-8 p.m. at Frederik Meijer Gardens & Sculpture Park. \nProceeds support Cherry Health programs and services that build stronger\, healthier communities. Tickets are available until Oct. 9. For more information visit cherryhealth.org/donate
URL:https://www.grandrapidslionsclub.org/event/cherry-health-celebration-frederik-meijer-gardens-sculpture-park/
CATEGORIES:Fundraising
END:VEVENT
BEGIN:VEVENT
DTSTART;TZID=America/Detroit:20241116T100000
DTEND;TZID=America/Detroit:20241116T170000
DTSTAMP:20260425T131231
CREATED:20241023T012826Z
LAST-MODIFIED:20241115T172314Z
UID:6411-1731751200-1731776400@www.grandrapidslionsclub.org
SUMMARY:50 Mile Bike Ride in Millenium Park
DESCRIPTION:50 mile ride on a tandem bike as a fundraiser for the cost of the bike.  People are needed to ride on the tandem bike for 2 1/2 miles each driver.  People are also needed to man refreshments areas and cheer on the riders\, \nThere are two shifts\, 10-12\, 2-4   Contact Gary Anderson\, ga@andersoneye.com if interested for further details
URL:https://www.grandrapidslionsclub.org/event/50-mile-bike-ride-in-millenium-park/
CATEGORIES:Fundraising
END:VEVENT
BEGIN:VEVENT
DTSTART;TZID=America/Detroit:20250616T080000
DTEND;TZID=America/Detroit:20250616T170000
DTSTAMP:20260425T131231
CREATED:20250326T011200Z
LAST-MODIFIED:20250326T011200Z
UID:6748-1750060800-1750093200@www.grandrapidslionsclub.org
SUMMARY:Drive For Vision
DESCRIPTION:Fundraising golf event – details to follow \ndriveforvision.com
URL:https://www.grandrapidslionsclub.org/event/drive-for-vision-2/
CATEGORIES:Fundraising
END:VEVENT
END:VCALENDAR