BEGIN:VCALENDAR
VERSION:2.0
PRODID:-//GR Lions Club - ECPv6.15.20//NONSGML v1.0//EN
CALSCALE:GREGORIAN
METHOD:PUBLISH
X-ORIGINAL-URL:https://www.grandrapidslionsclub.org
X-WR-CALDESC:Events for GR Lions Club
REFRESH-INTERVAL;VALUE=DURATION:PT1H
X-Robots-Tag:noindex
X-PUBLISHED-TTL:PT1H
BEGIN:VTIMEZONE
TZID:America/Detroit
BEGIN:DAYLIGHT
TZOFFSETFROM:-0500
TZOFFSETTO:-0400
TZNAME:EDT
DTSTART:20200308T070000
END:DAYLIGHT
BEGIN:STANDARD
TZOFFSETFROM:-0400
TZOFFSETTO:-0500
TZNAME:EST
DTSTART:20201101T060000
END:STANDARD
BEGIN:DAYLIGHT
TZOFFSETFROM:-0500
TZOFFSETTO:-0400
TZNAME:EDT
DTSTART:20210314T070000
END:DAYLIGHT
BEGIN:STANDARD
TZOFFSETFROM:-0400
TZOFFSETTO:-0500
TZNAME:EST
DTSTART:20211107T060000
END:STANDARD
BEGIN:DAYLIGHT
TZOFFSETFROM:-0500
TZOFFSETTO:-0400
TZNAME:EDT
DTSTART:20220313T070000
END:DAYLIGHT
BEGIN:STANDARD
TZOFFSETFROM:-0400
TZOFFSETTO:-0500
TZNAME:EST
DTSTART:20221106T060000
END:STANDARD
END:VTIMEZONE
BEGIN:VEVENT
DTSTART;TZID=America/Detroit:20210526T080000
DTEND;TZID=America/Detroit:20210604T120000
DTSTAMP:20260425T142929
CREATED:20210331T161506Z
LAST-MODIFIED:20210331T162741Z
UID:3500-1622016000-1622808000@www.grandrapidslionsclub.org
SUMMARY: CHOOSE YOUR COAST RAFFLE 2021!  Get your tickets NOW!!!
DESCRIPTION: CHOOSE YOUR COAST RAFFLE 2021!  \nAre you ready to take a trip? If you’re like us\, you said\, “Yes!”  See Attached flyer below for more details!!!! \nThe Association for the Blind & Visually Impaired has an opportunity for you to win a great\, four-day\, three-night trip for two. And the best part is that your ticket purchase will help individuals living with Blindness or Low Vision improve their ability to live with self-sufficiency and with dignity. \nIf you’re our winner\, you can choose your vacation destination –  \nBoston MA \nHowey-in-the-Hills FL \nSan Diego CA \nSan Francisco CA! \n$100 will give you 6 chances to win! Single tickets are $20 each. Only 600 tickets will be sold! However\, if you’re not in the mood to take a chance\, donations are also appreciated. \nThe “Choose Your Coast” raffle order form is enclosed. Please send your entry right away. The drawing will be held on June 4\, 2021 at 3:00 pm. \nYou have one year from June 4\, 2021 in which to take your trip. \nThank you for your consideration and generous support! \nSincerely\, \nMarcus Manders Executive Director \nTo email your form\, (attached) send it to lzizos@abvimichigan.org \nTo order by phone call Linda Zizos at 616-458-1187 \nCHOOSE YOUR COAST RAFFLE 2021
URL:https://www.grandrapidslionsclub.org/event/choose-your-coast-raffle-2021-get-your-tickets-now/
CATEGORIES:Fundraising
END:VEVENT
END:VCALENDAR