BEGIN:VCALENDAR
VERSION:2.0
PRODID:-//GR Lions Club - ECPv6.15.20//NONSGML v1.0//EN
CALSCALE:GREGORIAN
METHOD:PUBLISH
X-WR-CALNAME:GR Lions Club
X-ORIGINAL-URL:https://www.grandrapidslionsclub.org
X-WR-CALDESC:Events for GR Lions Club
REFRESH-INTERVAL;VALUE=DURATION:PT1H
X-Robots-Tag:noindex
X-PUBLISHED-TTL:PT1H
BEGIN:VTIMEZONE
TZID:America/Detroit
BEGIN:DAYLIGHT
TZOFFSETFROM:-0500
TZOFFSETTO:-0400
TZNAME:EDT
DTSTART:20190310T070000
END:DAYLIGHT
BEGIN:STANDARD
TZOFFSETFROM:-0400
TZOFFSETTO:-0500
TZNAME:EST
DTSTART:20191103T060000
END:STANDARD
BEGIN:DAYLIGHT
TZOFFSETFROM:-0500
TZOFFSETTO:-0400
TZNAME:EDT
DTSTART:20200308T070000
END:DAYLIGHT
BEGIN:STANDARD
TZOFFSETFROM:-0400
TZOFFSETTO:-0500
TZNAME:EST
DTSTART:20201101T060000
END:STANDARD
BEGIN:DAYLIGHT
TZOFFSETFROM:-0500
TZOFFSETTO:-0400
TZNAME:EDT
DTSTART:20210314T070000
END:DAYLIGHT
BEGIN:STANDARD
TZOFFSETFROM:-0400
TZOFFSETTO:-0500
TZNAME:EST
DTSTART:20211107T060000
END:STANDARD
END:VTIMEZONE
BEGIN:VEVENT
DTSTART;TZID=America/Detroit:20201119T183000
DTEND;TZID=America/Detroit:20201119T200000
DTSTAMP:20260425T223439
CREATED:20200225T165040Z
LAST-MODIFIED:20200923T011429Z
UID:2550-1605810600-1605816000@www.grandrapidslionsclub.org
SUMMARY:Virtual - “Cherry Health Celebration”. Nov 19\, 2020   6:30 pm - 8:00 pm
DESCRIPTION:Check out the flyer for the event – (bottom of the page)   \nTime to register – registrations ends Oct 21 \nVirtual – “Cherry Health Celebration”. Nov 19\, 2020 \n6:30 pm – 8:00pm \n\n\n\n\nDate  Thursday\, November 19\, 2020 \nTimes 6:30 pm Remote Reception \n7 pm Program \nConcise Interactive Livestream Presentation with special guests! \nWhere:  Guests will receive a link to view the Livestream with their reservation.\nTickets $100 • RVSP by October 21 \nTickets include a meal from our restaurant partners\, an interactive event kit and a ‘seed’ donation for patient access. \nRegister  cherryhealth.org/donate/events \nfoundation@cherryhealth.com 616.965.8254 \n\n\n\n\n\nThis virtual\, live-streamed event will lift the voices of frontline workers. Sharing the essential equity offered by Cherry Health’s access to affordable health care\, regardless of income or insurance\, the stories shared will immerse you in the vital mission of caring for our neighbors. Join us in Celebration of the doctors\, counselors\, social workers\, pharmacists\, dentists and psychologists who work with restaurant cooks\, housekeeping staff\, home-health aides\, grocery clerks and line workers to keep us all safe and healthy. \nTickets are $100 and include a complimentary meal (a meal voucher from your choice of one of our restaurant partners) and a virtual event interactive kit. \nSponsorships are  encouraged with safer social hosting options available for your guests. \nFlyer —->>>>Cherry Health Celebration Digital Invite 11.19.2020 \n\n\n\n\n 
URL:https://www.grandrapidslionsclub.org/event/cherry-street-celebration/
CATEGORIES:Fundraising
END:VEVENT
END:VCALENDAR