BEGIN:VCALENDAR
VERSION:2.0
PRODID:-//GR Lions Club - ECPv6.15.20//NONSGML v1.0//EN
CALSCALE:GREGORIAN
METHOD:PUBLISH
X-ORIGINAL-URL:https://www.grandrapidslionsclub.org
X-WR-CALDESC:Events for GR Lions Club
REFRESH-INTERVAL;VALUE=DURATION:PT1H
X-Robots-Tag:noindex
X-PUBLISHED-TTL:PT1H
BEGIN:VTIMEZONE
TZID:America/Detroit
BEGIN:DAYLIGHT
TZOFFSETFROM:-0500
TZOFFSETTO:-0400
TZNAME:EDT
DTSTART:20180311T070000
END:DAYLIGHT
BEGIN:STANDARD
TZOFFSETFROM:-0400
TZOFFSETTO:-0500
TZNAME:EST
DTSTART:20181104T060000
END:STANDARD
BEGIN:DAYLIGHT
TZOFFSETFROM:-0500
TZOFFSETTO:-0400
TZNAME:EDT
DTSTART:20190310T070000
END:DAYLIGHT
BEGIN:STANDARD
TZOFFSETFROM:-0400
TZOFFSETTO:-0500
TZNAME:EST
DTSTART:20191103T060000
END:STANDARD
BEGIN:DAYLIGHT
TZOFFSETFROM:-0500
TZOFFSETTO:-0400
TZNAME:EDT
DTSTART:20200308T070000
END:DAYLIGHT
BEGIN:STANDARD
TZOFFSETFROM:-0400
TZOFFSETTO:-0500
TZNAME:EST
DTSTART:20201101T060000
END:STANDARD
END:VTIMEZONE
BEGIN:VEVENT
DTSTART;TZID=America/Detroit:20190314T183000
DTEND;TZID=America/Detroit:20190314T203000
DTSTAMP:20260425T063933
CREATED:20190213T163909Z
LAST-MODIFIED:20190213T164514Z
UID:1584-1552588200-1552595400@www.grandrapidslionsclub.org
SUMMARY:GVSU Campus Lions Club-Dinner in the Dark\, 3/14/19
DESCRIPTION:The GVSU Campus Lions Club has their annual fundraiser\, Dinner in the Dark on March 14\, 2019.  Experience the feeling of eating a spaghetti dinner blindfolded (you don’t have to eat blindfolded) \nBring a friend and support the club \nGVSU Dinner in the Dark \n 
URL:https://www.grandrapidslionsclub.org/event/gvsu-campus-lions-club-dinner-in-the-dark-3-14-19/
CATEGORIES:District 11-C1/State Event,Fundraising,Social Events
END:VEVENT
BEGIN:VEVENT
DTSTART;TZID=America/Detroit:20190323T080000
DTEND;TZID=America/Detroit:20190323T190000
DTSTAMP:20260425T063933
CREATED:20190128T023222Z
LAST-MODIFIED:20190128T023257Z
UID:1505-1553328000-1553367600@www.grandrapidslionsclub.org
SUMMARY:March 23\, 2019 - 11C-1 District Convention
DESCRIPTION:MARK YOUR CALENDARS!!!!!\n\n\nDistrict Governor Greg Wehby and the convention committee have an exciting one day event planned that is filled with seminars\, an International Director from Canada\, I.D. Tom Gordon\, meals\, silent auction and representatives from our district projects.  There will also be a business meeting to vote in our new district leaders\, be sure to get certified!  A possible tour of the Dominican Center or a service project is yet to be determined.\n\n \nDay: Saturday\, March 23\, 2019\n \nPlace: Dominican Center at Marywood\n2025 Fulton Street East\nGrand Rapids MI 49503\nPlenty of Parking Available\n\n \nCost: Again the cost will be broken down to make it convenient for all to attend.  \n\n(I personally think the ALL DAY fee of $50 – that covers your registration fee\, and two meals is the best deal)   \n\nOtherwise there is a registration fee of $12 added to your meal   \n\ni.e. (lunch $20+ $12 reg= $32) or (Dinner at $25 + $12 reg = $37)\n \nA printed registration will be coming soon!!!  Registration is required and a late fee will be added\n\n \nAny questions\, please feel free to contact any of us on the committee:\nDG Greg Wehby; gregwehby@ameritech.net \n\nCheryl Anderson;  andersoc@gvsu.edu\nDianna Robach;  866dva@gmail.com\nJulie May; jmay4379@gmail.com\nDeb Davis; ddavis@pawswithacause.org\n\n 
URL:https://www.grandrapidslionsclub.org/event/march-23-2019-11c-1-district-convention/
CATEGORIES:District 11-C1/State Event
END:VEVENT
END:VCALENDAR