BEGIN:VCALENDAR
VERSION:2.0
PRODID:-//GR Lions Club - ECPv6.15.20//NONSGML v1.0//EN
CALSCALE:GREGORIAN
METHOD:PUBLISH
X-WR-CALNAME:GR Lions Club
X-ORIGINAL-URL:https://www.grandrapidslionsclub.org
X-WR-CALDESC:Events for GR Lions Club
REFRESH-INTERVAL;VALUE=DURATION:PT1H
X-Robots-Tag:noindex
X-PUBLISHED-TTL:PT1H
BEGIN:VTIMEZONE
TZID:America/Detroit
BEGIN:DAYLIGHT
TZOFFSETFROM:-0500
TZOFFSETTO:-0400
TZNAME:EDT
DTSTART:20170312T070000
END:DAYLIGHT
BEGIN:STANDARD
TZOFFSETFROM:-0400
TZOFFSETTO:-0500
TZNAME:EST
DTSTART:20171105T060000
END:STANDARD
BEGIN:DAYLIGHT
TZOFFSETFROM:-0500
TZOFFSETTO:-0400
TZNAME:EDT
DTSTART:20180311T070000
END:DAYLIGHT
BEGIN:STANDARD
TZOFFSETFROM:-0400
TZOFFSETTO:-0500
TZNAME:EST
DTSTART:20181104T060000
END:STANDARD
BEGIN:DAYLIGHT
TZOFFSETFROM:-0500
TZOFFSETTO:-0400
TZNAME:EDT
DTSTART:20190310T070000
END:DAYLIGHT
BEGIN:STANDARD
TZOFFSETFROM:-0400
TZOFFSETTO:-0500
TZNAME:EST
DTSTART:20191103T060000
END:STANDARD
END:VTIMEZONE
BEGIN:VEVENT
DTSTART;TZID=America/Detroit:20181212T180000
DTEND;TZID=America/Detroit:20181212T220000
DTSTAMP:20260425T102824
CREATED:20181208T194609Z
LAST-MODIFIED:20181208T194609Z
UID:1338-1544637600-1544652000@www.grandrapidslionsclub.org
SUMMARY:Dec 12\, 2018 Sparta Lions Annual Christmas Dinner and Fun Auction
DESCRIPTION:Sparta Lions will be holding their annual Christmas Dinner and “Fun” Auction.  Location is the Sparta Civic Center\, 75 N. Union Street Sparta MI   RSVP by Dec 9\, 2019 to: spartalionsclub@yahoo.com or call 616-901-8397 \nItalian dinner provided with donation bar.  Please bring a wrapped $15 gift for the auction and there is also a silent auction
URL:https://www.grandrapidslionsclub.org/event/dec-12-2018-sparta-lions-annual-christmas-dinner-and-fun-auction/
CATEGORIES:District 11-C1/State Event
END:VEVENT
BEGIN:VEVENT
DTSTART;TZID=America/Detroit:20181230T080000
DTEND;TZID=America/Detroit:20181230T170000
DTSTAMP:20260425T102824
CREATED:20181230T220926Z
LAST-MODIFIED:20181230T220926Z
UID:1411-1546156800-1546189200@www.grandrapidslionsclub.org
SUMMARY:March 23\, 2019 - District 11-C1 Convention
DESCRIPTION:Mark your calendars and plan to attend the 1-day District Convention\, held right here in Grand Rapids at the Dominian Center at Marywood in Grand Rapids. \n Move information to follow
URL:https://www.grandrapidslionsclub.org/event/march-23-2019-district-11-c1-convention/
CATEGORIES:District 11-C1/State Event
END:VEVENT
END:VCALENDAR